BEGIN:VCALENDAR
VERSION:2.0
PRODID:-//The Sternwheelers - Nashville, Tennessee based Irish-Americana music - ECPv6.15.20//NONSGML v1.0//EN
CALSCALE:GREGORIAN
METHOD:PUBLISH
X-WR-CALNAME:The Sternwheelers - Nashville, Tennessee based Irish-Americana music
X-ORIGINAL-URL:https://thesternwheelers.com
X-WR-CALDESC:Events for The Sternwheelers - Nashville, Tennessee based Irish-Americana music
REFRESH-INTERVAL;VALUE=DURATION:PT1H
X-Robots-Tag:noindex
X-PUBLISHED-TTL:PT1H
BEGIN:VTIMEZONE
TZID:Europe/Dublin
BEGIN:STANDARD
TZOFFSETFROM:+0000
TZOFFSETTO:+0100
TZNAME:IST
DTSTART:20250330T010000
END:STANDARD
BEGIN:DAYLIGHT
TZOFFSETFROM:+0100
TZOFFSETTO:+0000
TZNAME:GMT
DTSTART:20251026T010000
END:DAYLIGHT
BEGIN:STANDARD
TZOFFSETFROM:+0000
TZOFFSETTO:+0100
TZNAME:IST
DTSTART:20260329T010000
END:STANDARD
BEGIN:DAYLIGHT
TZOFFSETFROM:+0100
TZOFFSETTO:+0000
TZNAME:GMT
DTSTART:20261025T010000
END:DAYLIGHT
BEGIN:STANDARD
TZOFFSETFROM:+0000
TZOFFSETTO:+0100
TZNAME:IST
DTSTART:20270328T010000
END:STANDARD
BEGIN:DAYLIGHT
TZOFFSETFROM:+0100
TZOFFSETTO:+0000
TZNAME:GMT
DTSTART:20271031T010000
END:DAYLIGHT
END:VTIMEZONE
BEGIN:VEVENT
DTSTART;TZID=Europe/Dublin:20260805T200000
DTEND;TZID=Europe/Dublin:20260805T220000
DTSTAMP:20260422T220816
CREATED:20260331T230101Z
LAST-MODIFIED:20260331T230101Z
UID:16645-1785960000-1785967200@thesternwheelers.com
SUMMARY:Michael Coleman Irish Music Centre
DESCRIPTION:
URL:https://thesternwheelers.com/event/michael-coleman-irish-music-centre/
LOCATION:Coleman Irish Music Centre\, Gurteen\, Co Sligo\, F56 TF88\, Ireland
END:VEVENT
END:VCALENDAR