BEGIN:VCALENDAR
VERSION:2.0
PRODID:-//The Sternwheelers - Nashville, Tennessee based Irish-Americana music - ECPv6.15.20//NONSGML v1.0//EN
CALSCALE:GREGORIAN
METHOD:PUBLISH
X-WR-CALNAME:The Sternwheelers - Nashville, Tennessee based Irish-Americana music
X-ORIGINAL-URL:https://thesternwheelers.com
X-WR-CALDESC:Events for The Sternwheelers - Nashville, Tennessee based Irish-Americana music
REFRESH-INTERVAL;VALUE=DURATION:PT1H
X-Robots-Tag:noindex
X-PUBLISHED-TTL:PT1H
BEGIN:VTIMEZONE
TZID:America/Chicago
BEGIN:DAYLIGHT
TZOFFSETFROM:-0600
TZOFFSETTO:-0500
TZNAME:CDT
DTSTART:20240310T080000
END:DAYLIGHT
BEGIN:STANDARD
TZOFFSETFROM:-0500
TZOFFSETTO:-0600
TZNAME:CST
DTSTART:20241103T070000
END:STANDARD
BEGIN:DAYLIGHT
TZOFFSETFROM:-0600
TZOFFSETTO:-0500
TZNAME:CDT
DTSTART:20250309T080000
END:DAYLIGHT
BEGIN:STANDARD
TZOFFSETFROM:-0500
TZOFFSETTO:-0600
TZNAME:CST
DTSTART:20251102T070000
END:STANDARD
BEGIN:DAYLIGHT
TZOFFSETFROM:-0600
TZOFFSETTO:-0500
TZNAME:CDT
DTSTART:20260308T080000
END:DAYLIGHT
BEGIN:STANDARD
TZOFFSETFROM:-0500
TZOFFSETTO:-0600
TZNAME:CST
DTSTART:20261101T070000
END:STANDARD
BEGIN:DAYLIGHT
TZOFFSETFROM:-0600
TZOFFSETTO:-0500
TZNAME:CDT
DTSTART:20270314T080000
END:DAYLIGHT
BEGIN:STANDARD
TZOFFSETFROM:-0500
TZOFFSETTO:-0600
TZNAME:CST
DTSTART:20271107T070000
END:STANDARD
END:VTIMEZONE
BEGIN:VTIMEZONE
TZID:America/New_York
BEGIN:DAYLIGHT
TZOFFSETFROM:-0500
TZOFFSETTO:-0400
TZNAME:EDT
DTSTART:20240310T070000
END:DAYLIGHT
BEGIN:STANDARD
TZOFFSETFROM:-0400
TZOFFSETTO:-0500
TZNAME:EST
DTSTART:20241103T060000
END:STANDARD
BEGIN:DAYLIGHT
TZOFFSETFROM:-0500
TZOFFSETTO:-0400
TZNAME:EDT
DTSTART:20250309T070000
END:DAYLIGHT
BEGIN:STANDARD
TZOFFSETFROM:-0400
TZOFFSETTO:-0500
TZNAME:EST
DTSTART:20251102T060000
END:STANDARD
BEGIN:DAYLIGHT
TZOFFSETFROM:-0500
TZOFFSETTO:-0400
TZNAME:EDT
DTSTART:20260308T070000
END:DAYLIGHT
BEGIN:STANDARD
TZOFFSETFROM:-0400
TZOFFSETTO:-0500
TZNAME:EST
DTSTART:20261101T060000
END:STANDARD
BEGIN:DAYLIGHT
TZOFFSETFROM:-0500
TZOFFSETTO:-0400
TZNAME:EDT
DTSTART:20270314T070000
END:DAYLIGHT
BEGIN:STANDARD
TZOFFSETFROM:-0400
TZOFFSETTO:-0500
TZNAME:EST
DTSTART:20271107T060000
END:STANDARD
END:VTIMEZONE
BEGIN:VTIMEZONE
TZID:UTC
BEGIN:STANDARD
TZOFFSETFROM:+0000
TZOFFSETTO:+0000
TZNAME:UTC
DTSTART:20240101T000000
END:STANDARD
END:VTIMEZONE
BEGIN:VTIMEZONE
TZID:Europe/Dublin
BEGIN:STANDARD
TZOFFSETFROM:+0000
TZOFFSETTO:+0100
TZNAME:IST
DTSTART:20240331T010000
END:STANDARD
BEGIN:DAYLIGHT
TZOFFSETFROM:+0100
TZOFFSETTO:+0000
TZNAME:GMT
DTSTART:20241027T010000
END:DAYLIGHT
BEGIN:STANDARD
TZOFFSETFROM:+0000
TZOFFSETTO:+0100
TZNAME:IST
DTSTART:20250330T010000
END:STANDARD
BEGIN:DAYLIGHT
TZOFFSETFROM:+0100
TZOFFSETTO:+0000
TZNAME:GMT
DTSTART:20251026T010000
END:DAYLIGHT
BEGIN:STANDARD
TZOFFSETFROM:+0000
TZOFFSETTO:+0100
TZNAME:IST
DTSTART:20260329T010000
END:STANDARD
BEGIN:DAYLIGHT
TZOFFSETFROM:+0100
TZOFFSETTO:+0000
TZNAME:GMT
DTSTART:20261025T010000
END:DAYLIGHT
END:VTIMEZONE
BEGIN:VEVENT
DTSTART;TZID=America/Chicago:20260317T180000
DTEND;TZID=America/Chicago:20260317T210000
DTSTAMP:20260421T231227
CREATED:20251122T225727Z
LAST-MODIFIED:20251122T232450Z
UID:16054-1773770400-1773781200@thesternwheelers.com
SUMMARY:Private Event
DESCRIPTION:
URL:https://thesternwheelers.com/event/private-event/
LOCATION:General Jackson Showboat\, 577 Opry Mills Drive\, Nashville\, TN\, 37214\, United States
END:VEVENT
BEGIN:VEVENT
DTSTART;TZID=America/Chicago:20260314T200000
DTEND;TZID=America/Chicago:20260314T230000
DTSTAMP:20260421T231227
CREATED:20251218T180713Z
LAST-MODIFIED:20251218T180713Z
UID:16237-1773518400-1773529200@thesternwheelers.com
SUMMARY:Gilley's Park City
DESCRIPTION:
URL:https://thesternwheelers.com/event/gilleys-park-city/
LOCATION:Gilley’s Park City\, 1500 E. 77th Street N\, Park City\, KS\, 67147\, United States
END:VEVENT
BEGIN:VEVENT
DTSTART;TZID=America/Chicago:20260311T180000
DTEND;TZID=America/Chicago:20260311T200000
DTSTAMP:20260421T231227
CREATED:20250529T030505Z
LAST-MODIFIED:20260219T201157Z
UID:15207-1773252000-1773259200@thesternwheelers.com
SUMMARY:McNamara's Irish Pub
DESCRIPTION:
URL:https://thesternwheelers.com/event/mcnamaras-irish-pub-5/
LOCATION:McNamara’s Irish Pub\, 2740 Old Lebanon Pike\, Nashville\, TN\, 37214\, United States
END:VEVENT
BEGIN:VEVENT
DTSTART;TZID=America/Chicago:20260307T100000
DTEND;TZID=America/Chicago:20260307T180000
DTSTAMP:20260421T231227
CREATED:20251122T225405Z
LAST-MODIFIED:20251122T232359Z
UID:16049-1772877600-1772906400@thesternwheelers.com
SUMMARY:County Sumner Irish Festival
DESCRIPTION:
URL:https://thesternwheelers.com/event/county-sumner-irish-festival/
LOCATION:County Sumner Irish Festival\, 2901 Hartsville Pike\, Castalian Springs\, TN\, 37031\, United States
END:VEVENT
BEGIN:VEVENT
DTSTART;TZID=America/New_York:20260301T200000
DTEND;TZID=America/New_York:20260301T220000
DTSTAMP:20260421T231227
CREATED:20251122T230328Z
LAST-MODIFIED:20260305T144317Z
UID:16062-1772395200-1772402400@thesternwheelers.com
SUMMARY:Jack of the Wood
DESCRIPTION:
URL:https://thesternwheelers.com/event/jack-of-the-wood/
LOCATION:Jack of the Wood\, 95 Patton Avenue\, Asheville\, NC\, 28801\, United States
END:VEVENT
BEGIN:VEVENT
DTSTART;TZID=America/Chicago:20260117T180000
DTEND;TZID=America/Chicago:20260117T210000
DTSTAMP:20260421T231227
CREATED:20250529T030242Z
LAST-MODIFIED:20260116T185145Z
UID:15203-1768672800-1768683600@thesternwheelers.com
SUMMARY:Turk's Lounge
DESCRIPTION:
URL:https://thesternwheelers.com/event/turks-lounge-3/
LOCATION:McNamara’s Irish Pub\, 2740 Old Lebanon Pike\, Nashville\, TN\, 37214\, United States
END:VEVENT
BEGIN:VEVENT
DTSTART;TZID=UTC:20250809T193000
DTEND;TZID=UTC:20250809T213000
DTSTAMP:20260421T231227
CREATED:20250728T170437Z
LAST-MODIFIED:20250728T170437Z
UID:15571-1754767800-1754775000@thesternwheelers.com
SUMMARY:The Plough & The Stars
DESCRIPTION:
URL:https://thesternwheelers.com/event/the-plough-the-stars/
LOCATION:The Plough & The Stars\, 123 Chestnut Street Entrance on\, N 2nd St\, Philadelphia\, PA\, 19106\, United States
END:VEVENT
BEGIN:VEVENT
DTSTART;TZID=America/New_York:20250808T190000
DTEND;TZID=America/New_York:20250808T210000
DTSTAMP:20260421T231227
CREATED:20250529T195057Z
LAST-MODIFIED:20250529T195057Z
UID:15273-1754679600-1754686800@thesternwheelers.com
SUMMARY:Four Hour Day Lutherie
DESCRIPTION:
URL:https://thesternwheelers.com/event/four-hour-day-lutherie/
LOCATION:Four Hour Day Lutherie\, 4305 Harford Rd\, Baltimore\, MD\, 21214\, United States
END:VEVENT
BEGIN:VEVENT
DTSTART;TZID=Europe/Dublin:20250712T200000
DTEND;TZID=Europe/Dublin:20250712T230000
DTSTAMP:20260421T231227
CREATED:20250529T031047Z
LAST-MODIFIED:20250529T034432Z
UID:15212-1752350400-1752361200@thesternwheelers.com
SUMMARY:Doherty's Bar
DESCRIPTION:
URL:https://thesternwheelers.com/event/dohertys-bar/
LOCATION:Doherty’s Bar\, Number 9\, Main Street\, Mulranny\, Mayo\, Ireland
END:VEVENT
BEGIN:VEVENT
DTSTART;TZID=Europe/Dublin:20250709T190000
DTEND;TZID=Europe/Dublin:20250709T220000
DTSTAMP:20260421T231227
CREATED:20250529T030848Z
LAST-MODIFIED:20250529T030848Z
UID:15209-1752087600-1752098400@thesternwheelers.com
SUMMARY:John Joe's Pub
DESCRIPTION:
URL:https://thesternwheelers.com/event/john-joes-pub/
LOCATION:John Joe’s Pub\, Main Street\, Keenaghan\, Kilcar\, Donegal\, F94 A3NR\, Ireland
END:VEVENT
BEGIN:VEVENT
DTSTART;TZID=America/New_York:20250614T143000
DTEND;TZID=America/New_York:20250614T160000
DTSTAMP:20260421T231227
CREATED:20250529T030031Z
LAST-MODIFIED:20250529T030031Z
UID:15198-1749911400-1749916800@thesternwheelers.com
SUMMARY:Flame Azalea Festival
DESCRIPTION:
URL:https://thesternwheelers.com/event/flame-azalea-festival/
LOCATION:Flame Azalea Festival\, 474 Rodney Orr Bypass\, Robbinsville\, NC\, 28771\, United States
END:VEVENT
BEGIN:VEVENT
DTSTART;TZID=America/New_York:20250612T190000
DTEND;TZID=America/New_York:20250612T210000
DTSTAMP:20260421T231227
CREATED:20250529T025841Z
LAST-MODIFIED:20250529T030604Z
UID:15195-1749754800-1749762000@thesternwheelers.com
SUMMARY:O'Reilly's Public House
DESCRIPTION:
URL:https://thesternwheelers.com/event/oreillys-public-house/
LOCATION:O’Reilly’s Public House\, 227 Sandy Springs Pl NE Suite 416\, Sandy Springs\, GA\, 30328\, United States
END:VEVENT
BEGIN:VEVENT
DTSTART;TZID=America/Chicago:20250531T180000
DTEND;TZID=America/Chicago:20250531T210000
DTSTAMP:20260421T231227
CREATED:20250527T225810Z
LAST-MODIFIED:20250529T030647Z
UID:15103-1748714400-1748725200@thesternwheelers.com
SUMMARY:Turk's Lounge
DESCRIPTION:
URL:https://thesternwheelers.com/event/turks-lounge-2/
LOCATION:McNamara’s Irish Pub\, 2740 Old Lebanon Pike\, Nashville\, TN\, 37214\, United States
END:VEVENT
BEGIN:VEVENT
DTSTART;TZID=America/Chicago:20250530T180000
DTEND;TZID=America/Chicago:20250530T210000
DTSTAMP:20260421T231227
CREATED:20250527T225743Z
LAST-MODIFIED:20250529T030703Z
UID:15101-1748628000-1748638800@thesternwheelers.com
SUMMARY:Turk's Lounge
DESCRIPTION:
URL:https://thesternwheelers.com/event/turks-lounge/
LOCATION:McNamara’s Irish Pub\, 2740 Old Lebanon Pike\, Nashville\, TN\, 37214\, United States
END:VEVENT
END:VCALENDAR