BEGIN:VCALENDAR
VERSION:2.0
PRODID:-//The Sternwheelers - Nashville, Tennessee based Irish-Americana music - ECPv6.15.20//NONSGML v1.0//EN
CALSCALE:GREGORIAN
METHOD:PUBLISH
X-WR-CALNAME:The Sternwheelers - Nashville, Tennessee based Irish-Americana music
X-ORIGINAL-URL:https://thesternwheelers.com
X-WR-CALDESC:Events for The Sternwheelers - Nashville, Tennessee based Irish-Americana music
REFRESH-INTERVAL;VALUE=DURATION:PT1H
X-Robots-Tag:noindex
X-PUBLISHED-TTL:PT1H
BEGIN:VTIMEZONE
TZID:Europe/Dublin
BEGIN:STANDARD
TZOFFSETFROM:+0000
TZOFFSETTO:+0100
TZNAME:IST
DTSTART:20240331T010000
END:STANDARD
BEGIN:DAYLIGHT
TZOFFSETFROM:+0100
TZOFFSETTO:+0000
TZNAME:GMT
DTSTART:20241027T010000
END:DAYLIGHT
BEGIN:STANDARD
TZOFFSETFROM:+0000
TZOFFSETTO:+0100
TZNAME:IST
DTSTART:20250330T010000
END:STANDARD
BEGIN:DAYLIGHT
TZOFFSETFROM:+0100
TZOFFSETTO:+0000
TZNAME:GMT
DTSTART:20251026T010000
END:DAYLIGHT
BEGIN:STANDARD
TZOFFSETFROM:+0000
TZOFFSETTO:+0100
TZNAME:IST
DTSTART:20260329T010000
END:STANDARD
BEGIN:DAYLIGHT
TZOFFSETFROM:+0100
TZOFFSETTO:+0000
TZNAME:GMT
DTSTART:20261025T010000
END:DAYLIGHT
END:VTIMEZONE
BEGIN:VEVENT
DTSTART;TZID=Europe/Dublin:20250709T190000
DTEND;TZID=Europe/Dublin:20250709T220000
DTSTAMP:20260422T050031
CREATED:20250529T030848Z
LAST-MODIFIED:20250529T030848Z
UID:15209-1752087600-1752098400@thesternwheelers.com
SUMMARY:John Joe's Pub
DESCRIPTION:
URL:https://thesternwheelers.com/event/john-joes-pub/
LOCATION:John Joe’s Pub\, Main Street\, Keenaghan\, Kilcar\, Donegal\, F94 A3NR\, Ireland
END:VEVENT
END:VCALENDAR